BEGIN:VCALENDAR
VERSION:2.0
PRODID:-//East Liberty Presbyterian Church - ECPv6.15.20//NONSGML v1.0//EN
CALSCALE:GREGORIAN
METHOD:PUBLISH
X-WR-CALNAME:East Liberty Presbyterian Church
X-ORIGINAL-URL:https://cathedralofhope.org
X-WR-CALDESC:Events for East Liberty Presbyterian Church
REFRESH-INTERVAL;VALUE=DURATION:PT1H
X-Robots-Tag:noindex
X-PUBLISHED-TTL:PT1H
BEGIN:VTIMEZONE
TZID:America/Halifax
BEGIN:DAYLIGHT
TZOFFSETFROM:-0400
TZOFFSETTO:-0300
TZNAME:ADT
DTSTART:20140309T060000
END:DAYLIGHT
BEGIN:STANDARD
TZOFFSETFROM:-0300
TZOFFSETTO:-0400
TZNAME:AST
DTSTART:20141102T050000
END:STANDARD
BEGIN:DAYLIGHT
TZOFFSETFROM:-0400
TZOFFSETTO:-0300
TZNAME:ADT
DTSTART:20150308T060000
END:DAYLIGHT
BEGIN:STANDARD
TZOFFSETFROM:-0300
TZOFFSETTO:-0400
TZNAME:AST
DTSTART:20151101T050000
END:STANDARD
BEGIN:DAYLIGHT
TZOFFSETFROM:-0400
TZOFFSETTO:-0300
TZNAME:ADT
DTSTART:20160313T060000
END:DAYLIGHT
BEGIN:STANDARD
TZOFFSETFROM:-0300
TZOFFSETTO:-0400
TZNAME:AST
DTSTART:20161106T050000
END:STANDARD
BEGIN:DAYLIGHT
TZOFFSETFROM:-0400
TZOFFSETTO:-0300
TZNAME:ADT
DTSTART:20170312T060000
END:DAYLIGHT
BEGIN:STANDARD
TZOFFSETFROM:-0300
TZOFFSETTO:-0400
TZNAME:AST
DTSTART:20171105T050000
END:STANDARD
BEGIN:DAYLIGHT
TZOFFSETFROM:-0400
TZOFFSETTO:-0300
TZNAME:ADT
DTSTART:20180311T060000
END:DAYLIGHT
BEGIN:STANDARD
TZOFFSETFROM:-0300
TZOFFSETTO:-0400
TZNAME:AST
DTSTART:20181104T050000
END:STANDARD
BEGIN:DAYLIGHT
TZOFFSETFROM:-0400
TZOFFSETTO:-0300
TZNAME:ADT
DTSTART:20190310T060000
END:DAYLIGHT
BEGIN:STANDARD
TZOFFSETFROM:-0300
TZOFFSETTO:-0400
TZNAME:AST
DTSTART:20191103T050000
END:STANDARD
BEGIN:DAYLIGHT
TZOFFSETFROM:-0400
TZOFFSETTO:-0300
TZNAME:ADT
DTSTART:20200308T060000
END:DAYLIGHT
BEGIN:STANDARD
TZOFFSETFROM:-0300
TZOFFSETTO:-0400
TZNAME:AST
DTSTART:20201101T050000
END:STANDARD
END:VTIMEZONE
BEGIN:VEVENT
DTSTART;TZID=America/Halifax:20190218T190000
DTEND;TZID=America/Halifax:20190218T203000
DTSTAMP:20260423T170537
CREATED:20190217T222535Z
LAST-MODIFIED:20190217T222535Z
UID:10004231-1550516400-1550521800@cathedralofhope.org
SUMMARY:PPT Shakespeare Showcase of Finalists 2019
DESCRIPTION:Pittsburgh Public Theater’s 25th annual Shakespeare Monologue & Scene Contest\, that began with more than 1\,000 students\, has winnowed down the field to 38 students who will perform in the finals at 7 p.m. on Monday\, Feb 18. \nHope Academy students performed 30 monologues and 5 scenes during the preliminary rounds on Monday\, February 11 and Thursday\, February 14. Of this group\, three students were selected as finalists for their monologue (Burke Keener as Malvolio from Twelfth Night) and scene (Zaida Collins as Juliet and Madeleine Mocker as the Nurse from Romeo and Juliet). \nThe Showcase of Finalists is FREE and open to the public. It is a great evening of theater and a nice way to cheer on and support not only Hope Academy students but all of the young artists\, from all over the tri-state area\, who competed in the contest. We will have a big cheering section and hope you can join us. \n				\n \n  \n  \n 
URL:https://cathedralofhope.org/event/ppt-shakespeare-showcase-of-finalists-2019/
LOCATION:Pittsburgh Public Theater\, 621 Penn Avenue\, Pittsburgh\, PA\, 15222\, United States
CATEGORIES:Featured Events,Hope Academy
ATTACH;FMTTYPE=image/jpeg:https://cathedralofhope.org/wp-content/uploads/2019/02/HA-Shakespeare-Finalists-2019.jpg
GEO:40.443174;-80.0014986
X-APPLE-STRUCTURED-LOCATION;VALUE=URI;X-ADDRESS=Pittsburgh Public Theater 621 Penn Avenue Pittsburgh PA 15222 United States;X-APPLE-RADIUS=500;X-TITLE=621 Penn Avenue:geo:-80.0014986,40.443174
END:VEVENT
BEGIN:VEVENT
DTSTART;TZID=America/Halifax:20160215T190000
DTEND;TZID=America/Halifax:20160215T210000
DTSTAMP:20260423T170537
CREATED:20160213T163023Z
LAST-MODIFIED:20160213T163023Z
UID:10002916-1455562800-1455570000@cathedralofhope.org
SUMMARY:Hope Academy in Pittsburgh Public Theater's Shakespeare Finals
DESCRIPTION:All three of our scenes were selected as finalists in this year’s Pittsburgh Public Theater Shakespeare Monologue and Scene Contest. \nThe Winter’s Tale – Francisco Carattino\, Alice Crow\, Candace Burgess\, Mimi O’Malley \nOthello – Dorothy Crow and Kira Mukogosi \nTaming of the Shrew – Laela Lumsden and Anna Ungarino \nNearly 1\,300 students from more than 80 local schools competed in the preliminary round of the 22nd annual Shakespeare Monologue & Scene Contest at Pittsburgh Public Theater. \nThe Showcase of Finalists is free and open to the public. Please join us to cheer on all of our young artists! \nBelow\, all of Hope Academy’s students who competed in the preliminary round of the Pittsburgh Public Theater’s 2016 Shakespeare Monologue and Scene Contest. \n \n  \n  \n  \n \n 
URL:https://cathedralofhope.org/event/hope-academy-in-pittsburgh-public-theaters-shakespeare-finals/
LOCATION:Pittsburgh Public Theater\, 621 Penn Avenue\, Pittsburgh\, PA\, 15222\, United States
CATEGORIES:Featured Events,Hope Academy
ATTACH;FMTTYPE=image/jpeg:https://cathedralofhope.org/wp-content/uploads/2016/02/Shakespeare-Finalists-Montage-Preliminary-Round.jpg
GEO:40.443174;-80.0014986
X-APPLE-STRUCTURED-LOCATION;VALUE=URI;X-ADDRESS=Pittsburgh Public Theater 621 Penn Avenue Pittsburgh PA 15222 United States;X-APPLE-RADIUS=500;X-TITLE=621 Penn Avenue:geo:-80.0014986,40.443174
END:VEVENT
BEGIN:VEVENT
DTSTART;TZID=America/Halifax:20160212T150000
DTEND;TZID=America/Halifax:20160212T170000
DTSTAMP:20260423T170537
CREATED:20151209T212535Z
LAST-MODIFIED:20151209T212535Z
UID:10002482-1455289200-1455296400@cathedralofhope.org
SUMMARY:Shakespeare Contest Preliminary Round - HAT Co Students
DESCRIPTION:Hope Academy’s Teen Theater Company (HAT Co) students\, in the 6th through 12th grades\, are competing this week in the Pittsburgh Public Theater’s Shakespeare Monologue and Scene Contest. Call time for students is 2:30 pm in the lobby of the Pittsburgh Public (O’Reilly) Theater in the Cultural District downtown. We are schedule to compete at 3 pm.
URL:https://cathedralofhope.org/event/shakespeare-contest-preliminary-round-hat-co-students-2/
LOCATION:Pittsburgh Public Theater\, 621 Penn Avenue\, Pittsburgh\, PA\, 15222\, United States
CATEGORIES:Featured Events,Hope Academy
ATTACH;FMTTYPE=image/jpeg:https://cathedralofhope.org/wp-content/uploads/2015/12/HAT-Co-Shakespeare-Preliminary-Round-2015.jpg
GEO:40.443174;-80.0014986
X-APPLE-STRUCTURED-LOCATION;VALUE=URI;X-ADDRESS=Pittsburgh Public Theater 621 Penn Avenue Pittsburgh PA 15222 United States;X-APPLE-RADIUS=500;X-TITLE=621 Penn Avenue:geo:-80.0014986,40.443174
END:VEVENT
BEGIN:VEVENT
DTSTART;TZID=America/Halifax:20160208T150000
DTEND;TZID=America/Halifax:20160208T170000
DTSTAMP:20260423T170537
CREATED:20151209T192326Z
LAST-MODIFIED:20151209T192326Z
UID:10002480-1454943600-1454950800@cathedralofhope.org
SUMMARY:Shakespeare Contest Preliminary Round - Musical Theater Workshop Students
DESCRIPTION:Hope Academy’s Musical Theater Workshop students\, in the 4th through 7th grades\, are competing this week in the Pittsburgh Public Theater’s Shakespeare Monologue and Scene Contest. Call time for students is 2:30 pm in the lobby of the Pittsburgh Public (O’Reilly) Theater in the Cultural District downtown. We are schedule to compete at 3 pm.
URL:https://cathedralofhope.org/event/shakespeare-contest-preliminary-round-musical-theater-workshop-students-2/
LOCATION:Pittsburgh Public Theater\, 621 Penn Avenue\, Pittsburgh\, PA\, 15222\, United States
CATEGORIES:Featured Events,Hope Academy
ATTACH;FMTTYPE=image/jpeg:https://cathedralofhope.org/wp-content/uploads/2015/12/Hope-Academy-Shakespeare-Contest-2015-Lower-Division.jpg
GEO:40.443174;-80.0014986
X-APPLE-STRUCTURED-LOCATION;VALUE=URI;X-ADDRESS=Pittsburgh Public Theater 621 Penn Avenue Pittsburgh PA 15222 United States;X-APPLE-RADIUS=500;X-TITLE=621 Penn Avenue:geo:-80.0014986,40.443174
END:VEVENT
BEGIN:VEVENT
DTSTART;TZID=America/Halifax:20150216T190000
DTEND;TZID=America/Halifax:20150216T210000
DTSTAMP:20260423T170537
CREATED:20150214T200716Z
LAST-MODIFIED:20150214T200716Z
UID:10002597-1424113200-1424120400@cathedralofhope.org
SUMMARY:Shakespeare Contest Showcase of Finalists
DESCRIPTION:Three Hope Academy students were selected as finalists in the Pittsburgh Public Theater’s Shakespeare Monologue and Scene Contest and will be performing in the Showcase of Finalists on Monday evening. \n\nClara Swanson (lower division monologue) Julia from “Two Gentlemen of Verona”\nLaela Lumsden (upper division monologue) The Jailer’s Daughter from “The Two Noble Kinsmen”\nSam Gardner (upper division monologue) Henry from Henry V\n\nNearly 1\,000 students from over 100 schools competed in the contest. The field was winnowed down to the 13 monologues and 13 scenes that will be performed on Monday evening. \nPlease join us to help cheer on Clara\, Laela and Sam.
URL:https://cathedralofhope.org/event/shakespeare-contest-showcase-finalists/
LOCATION:Pittsburgh Public Theater\, 621 Penn Avenue\, Pittsburgh\, PA\, 15222\, United States
CATEGORIES:Featured Events,Hope Academy
ATTACH;FMTTYPE=image/jpeg:https://cathedralofhope.org/wp-content/uploads/2015/02/Shakespeare-Finalists-for-Poster.jpg
GEO:40.443174;-80.0014986
X-APPLE-STRUCTURED-LOCATION;VALUE=URI;X-ADDRESS=Pittsburgh Public Theater 621 Penn Avenue Pittsburgh PA 15222 United States;X-APPLE-RADIUS=500;X-TITLE=621 Penn Avenue:geo:-80.0014986,40.443174
END:VEVENT
END:VCALENDAR