BEGIN:VCALENDAR
VERSION:2.0
PRODID:-//East Liberty Presbyterian Church - ECPv6.15.20//NONSGML v1.0//EN
CALSCALE:GREGORIAN
METHOD:PUBLISH
X-WR-CALNAME:East Liberty Presbyterian Church
X-ORIGINAL-URL:https://cathedralofhope.org
X-WR-CALDESC:Events for East Liberty Presbyterian Church
REFRESH-INTERVAL;VALUE=DURATION:PT1H
X-Robots-Tag:noindex
X-PUBLISHED-TTL:PT1H
BEGIN:VTIMEZONE
TZID:America/New_York
BEGIN:DAYLIGHT
TZOFFSETFROM:-0500
TZOFFSETTO:-0400
TZNAME:EDT
DTSTART:20230312T070000
END:DAYLIGHT
BEGIN:STANDARD
TZOFFSETFROM:-0400
TZOFFSETTO:-0500
TZNAME:EST
DTSTART:20231105T060000
END:STANDARD
BEGIN:DAYLIGHT
TZOFFSETFROM:-0500
TZOFFSETTO:-0400
TZNAME:EDT
DTSTART:20240310T070000
END:DAYLIGHT
BEGIN:STANDARD
TZOFFSETFROM:-0400
TZOFFSETTO:-0500
TZNAME:EST
DTSTART:20241103T060000
END:STANDARD
BEGIN:DAYLIGHT
TZOFFSETFROM:-0500
TZOFFSETTO:-0400
TZNAME:EDT
DTSTART:20250309T070000
END:DAYLIGHT
BEGIN:STANDARD
TZOFFSETFROM:-0400
TZOFFSETTO:-0500
TZNAME:EST
DTSTART:20251102T060000
END:STANDARD
END:VTIMEZONE
BEGIN:VTIMEZONE
TZID:America/Halifax
BEGIN:DAYLIGHT
TZOFFSETFROM:-0400
TZOFFSETTO:-0300
TZNAME:ADT
DTSTART:20160313T060000
END:DAYLIGHT
BEGIN:STANDARD
TZOFFSETFROM:-0300
TZOFFSETTO:-0400
TZNAME:AST
DTSTART:20161106T050000
END:STANDARD
BEGIN:DAYLIGHT
TZOFFSETFROM:-0400
TZOFFSETTO:-0300
TZNAME:ADT
DTSTART:20170312T060000
END:DAYLIGHT
BEGIN:STANDARD
TZOFFSETFROM:-0300
TZOFFSETTO:-0400
TZNAME:AST
DTSTART:20171105T050000
END:STANDARD
BEGIN:DAYLIGHT
TZOFFSETFROM:-0400
TZOFFSETTO:-0300
TZNAME:ADT
DTSTART:20180311T060000
END:DAYLIGHT
BEGIN:STANDARD
TZOFFSETFROM:-0300
TZOFFSETTO:-0400
TZNAME:AST
DTSTART:20181104T050000
END:STANDARD
END:VTIMEZONE
BEGIN:VEVENT
DTSTART;TZID=America/New_York:20240824T110000
DTEND;TZID=America/New_York:20240824T160000
DTSTAMP:20260423T123708
CREATED:20240323T204234Z
LAST-MODIFIED:20240711T183631Z
UID:10006665-1724497200-1724515200@cathedralofhope.org
SUMMARY:Celebrating Pittsburgh Disability Pride
DESCRIPTION:Join our ELPC faith family at the third annual Disability Pride Pittsburgh Celebration on Saturday\, August 24\, 11 am–4 pm\, at Schenley Plaza (4100 Forbes Ave.\, Oakland). \nThis event is for the whole community with live music\, food trucks\, arts\, sensory friendly spaces\, fun activities\, and more! Celebrate in the streets while we share God’s love with all God’s people. \nLearn more about the event at DisabilityPridePA.org. \nContact Wil Forrest at 412.441.3800 x218 for more information. \nCome out and celebrate while we share God’s love with all God’s people!
URL:https://cathedralofhope.org/event/celebrating-pittsburgh-disability-pride/
LOCATION:Schenley Plaza\, Forbes Avenue\, Pittsburgh\, United States
CATEGORIES:Community,Featured Events,LGBTQIA+,Special Events
ATTACH;FMTTYPE=image/jpeg:https://cathedralofhope.org/wp-content/uploads/2024/03/Pride-Rev-2023-2.jpg
ORGANIZER;CN="Wil Forrest":MAILTO:Wil@coh.net
GEO:40.4438747;-79.9508782
X-APPLE-STRUCTURED-LOCATION;VALUE=URI;X-ADDRESS=Schenley Plaza Forbes Avenue Pittsburgh United States;X-APPLE-RADIUS=500;X-TITLE=Forbes Avenue:geo:-79.9508782,40.4438747
END:VEVENT
BEGIN:VEVENT
DTSTART;TZID=America/Halifax:20171015T140000
DTEND;TZID=America/Halifax:20171015T153000
DTSTAMP:20260423T123708
CREATED:20170519T184237Z
LAST-MODIFIED:20170519T184237Z
UID:10003255-1508076000-1508081400@cathedralofhope.org
SUMMARY:Circle of Faith
DESCRIPTION:Join our church family and folks from other houses of worship for Pittsburgh’s annual Circle of Faith at the Schenley Plaza tent. The Circle of Faith is a public witness by various faith communities\, designed to welcome and include LGBTQIA persons\, as well as their families and allies. \nELPC members are invited to gather together for this event and celebrate our own congregation’s diversity after we celebrate Full Inclusion Sunday during worship. \nMeet there or contact Wil Forrest at Wil@coh.net or 412.441.3800 x114 to ride in the church van\, which will leave ELPC at 1 pm\, and return around 4:30 pm.
URL:https://cathedralofhope.org/event/circle-of-faith/
LOCATION:Schenley Plaza\, Forbes Avenue\, Pittsburgh\, United States
CATEGORIES:Community,Featured Events,LGBTQIA+
ATTACH;FMTTYPE=image/jpeg:https://cathedralofhope.org/wp-content/uploads/2016/06/Circle-of-Faith-2016-021.jpg
ORGANIZER;CN="Jim DiGiorgio":MAILTO:JimD@coh.net
GEO:40.4438747;-79.9508782
X-APPLE-STRUCTURED-LOCATION;VALUE=URI;X-ADDRESS=Schenley Plaza Forbes Avenue Pittsburgh United States;X-APPLE-RADIUS=500;X-TITLE=Forbes Avenue:geo:-79.9508782,40.4438747
END:VEVENT
END:VCALENDAR