BEGIN:VCALENDAR
VERSION:2.0
PRODID:-//East Liberty Presbyterian Church - ECPv6.15.20//NONSGML v1.0//EN
CALSCALE:GREGORIAN
METHOD:PUBLISH
X-ORIGINAL-URL:https://cathedralofhope.org
X-WR-CALDESC:Events for East Liberty Presbyterian Church
REFRESH-INTERVAL;VALUE=DURATION:PT1H
X-Robots-Tag:noindex
X-PUBLISHED-TTL:PT1H
BEGIN:VTIMEZONE
TZID:America/Halifax
BEGIN:DAYLIGHT
TZOFFSETFROM:-0400
TZOFFSETTO:-0300
TZNAME:ADT
DTSTART:20150308T060000
END:DAYLIGHT
BEGIN:STANDARD
TZOFFSETFROM:-0300
TZOFFSETTO:-0400
TZNAME:AST
DTSTART:20151101T050000
END:STANDARD
BEGIN:DAYLIGHT
TZOFFSETFROM:-0400
TZOFFSETTO:-0300
TZNAME:ADT
DTSTART:20160313T060000
END:DAYLIGHT
BEGIN:STANDARD
TZOFFSETFROM:-0300
TZOFFSETTO:-0400
TZNAME:AST
DTSTART:20161106T050000
END:STANDARD
BEGIN:DAYLIGHT
TZOFFSETFROM:-0400
TZOFFSETTO:-0300
TZNAME:ADT
DTSTART:20170312T060000
END:DAYLIGHT
BEGIN:STANDARD
TZOFFSETFROM:-0300
TZOFFSETTO:-0400
TZNAME:AST
DTSTART:20171105T050000
END:STANDARD
END:VTIMEZONE
BEGIN:VEVENT
DTSTART;TZID=America/Halifax:20160708T143000
DTEND;TZID=America/Halifax:20160708T210000
DTSTAMP:20260424T004429
CREATED:20160628T124153Z
LAST-MODIFIED:20160628T124153Z
UID:10003037-1467988200-1468011600@cathedralofhope.org
SUMMARY:Serving at Shepherd Wellness Community
DESCRIPTION:Join us as we serve dinner at Shepherd Wellness Community on behalf of ELPC. Cooking will take place from 2:30–5 pm; serving/cleaning from 5:45–9 pm. \nAll ELPC friends and members are welcome and needed to fully demonstrate that ELPC is a place for all of God’s people! \nTo learn more or to get involved in ELPC’s LGBTQ Ministry\, contact Wil Forrest at Wil@coh.net or 412.441.3800 x14. \nGod created you. God loves you.\nBe yourself.
URL:https://cathedralofhope.org/event/serving-shepherd-wellness-community/
LOCATION:Shepherd Wellness Community\, 4800 Sciota Street\, Pittsburgh\, PA\, 15224\, United States
CATEGORIES:Church Life,LGBTQIA+,Mission Activities
ATTACH;FMTTYPE=image/jpeg:https://cathedralofhope.org/wp-content/uploads/2016/06/Circle-of-Faith-2016-001.jpg
GEO:40.4596063;-79.9473504
X-APPLE-STRUCTURED-LOCATION;VALUE=URI;X-ADDRESS=Shepherd Wellness Community 4800 Sciota Street Pittsburgh PA 15224 United States;X-APPLE-RADIUS=500;X-TITLE=4800 Sciota Street:geo:-79.9473504,40.4596063
END:VEVENT
END:VCALENDAR