BEGIN:VCALENDAR
VERSION:2.0
PRODID:-//East Liberty Presbyterian Church - ECPv6.15.20//NONSGML v1.0//EN
CALSCALE:GREGORIAN
METHOD:PUBLISH
X-ORIGINAL-URL:https://cathedralofhope.org
X-WR-CALDESC:Events for East Liberty Presbyterian Church
REFRESH-INTERVAL;VALUE=DURATION:PT1H
X-Robots-Tag:noindex
X-PUBLISHED-TTL:PT1H
BEGIN:VTIMEZONE
TZID:America/New_York
BEGIN:DAYLIGHT
TZOFFSETFROM:-0500
TZOFFSETTO:-0400
TZNAME:EDT
DTSTART:20210314T070000
END:DAYLIGHT
BEGIN:STANDARD
TZOFFSETFROM:-0400
TZOFFSETTO:-0500
TZNAME:EST
DTSTART:20211107T060000
END:STANDARD
BEGIN:DAYLIGHT
TZOFFSETFROM:-0500
TZOFFSETTO:-0400
TZNAME:EDT
DTSTART:20220313T070000
END:DAYLIGHT
BEGIN:STANDARD
TZOFFSETFROM:-0400
TZOFFSETTO:-0500
TZNAME:EST
DTSTART:20221106T060000
END:STANDARD
BEGIN:DAYLIGHT
TZOFFSETFROM:-0500
TZOFFSETTO:-0400
TZNAME:EDT
DTSTART:20230312T070000
END:DAYLIGHT
BEGIN:STANDARD
TZOFFSETFROM:-0400
TZOFFSETTO:-0500
TZNAME:EST
DTSTART:20231105T060000
END:STANDARD
END:VTIMEZONE
BEGIN:VEVENT
DTSTART;TZID=America/New_York:20220911T150000
DTEND;TZID=America/New_York:20220911T220000
DTSTAMP:20260423T105922
CREATED:20220830T224104Z
LAST-MODIFIED:20220907T162035Z
UID:10003219-1662908400-1662933600@cathedralofhope.org
SUMMARY:Karl Sellner Memorial Benefit 2022
DESCRIPTION:Please join us for what is sure to be a great evening of music\, food\, raffles\, games\, and friendship in remembrance of former Hope Academy student\, Karl Sellner. All proceeds from the event will go to a scholarship at Hope Academy. \nThis fund honors his memory and ensures that his love of music will live on through the beautiful voices\, playing of various instruments\, dance and acting of children for many years to come. \nIf you are unable to make it to the event\, but would like to make a donation to Hope Academy’s Scholarship Fund (select the Karl Sellner Memorial option) or donate an item for the auction\, click the button below. \nClick Here  \n\nABOUT KARL SELLNER \nFrom an early age\, Karl Jacob Sellner was simply captivated by his grandfather John Alden’s music\, foreshadowing his life-long love of the performing arts. This passion was nurtured by his family and by his many experiences as a student of Hope Academy. As a teen and young adult\, Karl became an accomplished guitar player and lyricist. As with his love of music\, Karl found the other things he cared about early in life\, including his wife Shelby\, and his calling to join the US Army to serve\, like his grandfather had during WWII. Like so many gifted musicians before him\, Karl’s light was also shadowed by bi-polar disorder. On\, September 11\, 2016\, Karl’s pain was too much and he ended his life. The support of the Hope Academy community was treasured by his parents and 6 siblings during this time of grief\, and together\, they channeled this sadness into the Karl Jacob Sellner Memorial Fund for Hope Academy. This fund honors his memory and ensures that his love of music will live on through the beautiful voices\, playing of various instruments\, dance and acting of children for many years to come. \nABOUT HOPE ACADEMY OF MUSIC AND THE ARTS \nHope Academy of Music and the Arts\, an outreach program of East Liberty Presbyterian Church\, offers a safe place where young people of diverse racial\, ethnic\, cultural\, socioeconomic\, religious and linguistic backgrounds can further their personal and artistic growth through the study and performance of theater\, dance and music. We strive to create a diverse and inclusive artistic community that provides deep arts instruction through a sequential and progressive program; that supports the personal and artistic growth of students and teaching artists\, alike; and contributes to our community’s positive growth and cultural vibrancy. Over 350 young people and their families participate in Hope Academy’s programs throughout the year.
URL:https://cathedralofhope.org/event/karl-sellner-memorial-benefit-2022/
LOCATION:Sly  Fox Brewery & Pub at the Highline\, 46 South 4th Street\, Pittsburgh\, PA\, 15208\, United States
CATEGORIES:Featured Events,Hope Academy
END:VEVENT
END:VCALENDAR