BEGIN:VCALENDAR
VERSION:2.0
PRODID:-//East Liberty Presbyterian Church - ECPv6.15.20//NONSGML v1.0//EN
CALSCALE:GREGORIAN
METHOD:PUBLISH
X-WR-CALNAME:East Liberty Presbyterian Church
X-ORIGINAL-URL:https://cathedralofhope.org
X-WR-CALDESC:Events for East Liberty Presbyterian Church
REFRESH-INTERVAL;VALUE=DURATION:PT1H
X-Robots-Tag:noindex
X-PUBLISHED-TTL:PT1H
BEGIN:VTIMEZONE
TZID:America/Halifax
BEGIN:DAYLIGHT
TZOFFSETFROM:-0400
TZOFFSETTO:-0300
TZNAME:ADT
DTSTART:20170312T060000
END:DAYLIGHT
BEGIN:STANDARD
TZOFFSETFROM:-0300
TZOFFSETTO:-0400
TZNAME:AST
DTSTART:20171105T050000
END:STANDARD
BEGIN:DAYLIGHT
TZOFFSETFROM:-0400
TZOFFSETTO:-0300
TZNAME:ADT
DTSTART:20180311T060000
END:DAYLIGHT
BEGIN:STANDARD
TZOFFSETFROM:-0300
TZOFFSETTO:-0400
TZNAME:AST
DTSTART:20181104T050000
END:STANDARD
BEGIN:DAYLIGHT
TZOFFSETFROM:-0400
TZOFFSETTO:-0300
TZNAME:ADT
DTSTART:20190310T060000
END:DAYLIGHT
BEGIN:STANDARD
TZOFFSETFROM:-0300
TZOFFSETTO:-0400
TZNAME:AST
DTSTART:20191103T050000
END:STANDARD
END:VTIMEZONE
BEGIN:VEVENT
DTSTART;TZID=America/Halifax:20180930T120000
DTEND;TZID=America/Halifax:20180930T160000
DTSTAMP:20260423T170317
CREATED:20180819T021925Z
LAST-MODIFIED:20180819T021925Z
UID:10002807-1538308800-1538323200@cathedralofhope.org
SUMMARY:Getting Your Just Desserts
DESCRIPTION:After worship\, let’s spend the afternoon together by going to Station Square for some delicious chocolate fondue and perhaps more.  First round of fondue is on the house!  Make sure you RSVP so you get a seat in the van and so we have the right number for the reservations.   See https://www.meltingpot.com/pittsburgh-pa/ for restaurant details.  This is a young adult event.  
URL:https://cathedralofhope.org/event/getting-your-just-desserts/
LOCATION:Station Square\, 350 West Station Square Drive\, Pittsburgh\, PA\, 15219\, United States
CATEGORIES:Young Adult
ORGANIZER;CN="Jim DiGiorgio":MAILTO:JimD@coh.net
GEO:40.4358862;-80.0084868
X-APPLE-STRUCTURED-LOCATION;VALUE=URI;X-ADDRESS=Station Square 350 West Station Square Drive Pittsburgh PA 15219 United States;X-APPLE-RADIUS=500;X-TITLE=350 West Station Square Drive:geo:-80.0084868,40.4358862
END:VEVENT
END:VCALENDAR