BEGIN:VCALENDAR
VERSION:2.0
PRODID:-//East Liberty Presbyterian Church - ECPv6.15.20//NONSGML v1.0//EN
CALSCALE:GREGORIAN
METHOD:PUBLISH
X-WR-CALNAME:East Liberty Presbyterian Church
X-ORIGINAL-URL:https://cathedralofhope.org
X-WR-CALDESC:Events for East Liberty Presbyterian Church
REFRESH-INTERVAL;VALUE=DURATION:PT1H
X-Robots-Tag:noindex
X-PUBLISHED-TTL:PT1H
BEGIN:VTIMEZONE
TZID:America/Halifax
BEGIN:DAYLIGHT
TZOFFSETFROM:-0400
TZOFFSETTO:-0300
TZNAME:ADT
DTSTART:20140309T060000
END:DAYLIGHT
BEGIN:STANDARD
TZOFFSETFROM:-0300
TZOFFSETTO:-0400
TZNAME:AST
DTSTART:20141102T050000
END:STANDARD
BEGIN:DAYLIGHT
TZOFFSETFROM:-0400
TZOFFSETTO:-0300
TZNAME:ADT
DTSTART:20150308T060000
END:DAYLIGHT
BEGIN:STANDARD
TZOFFSETFROM:-0300
TZOFFSETTO:-0400
TZNAME:AST
DTSTART:20151101T050000
END:STANDARD
BEGIN:DAYLIGHT
TZOFFSETFROM:-0400
TZOFFSETTO:-0300
TZNAME:ADT
DTSTART:20160313T060000
END:DAYLIGHT
BEGIN:STANDARD
TZOFFSETFROM:-0300
TZOFFSETTO:-0400
TZNAME:AST
DTSTART:20161106T050000
END:STANDARD
BEGIN:DAYLIGHT
TZOFFSETFROM:-0400
TZOFFSETTO:-0300
TZNAME:ADT
DTSTART:20170312T060000
END:DAYLIGHT
BEGIN:STANDARD
TZOFFSETFROM:-0300
TZOFFSETTO:-0400
TZNAME:AST
DTSTART:20171105T050000
END:STANDARD
END:VTIMEZONE
BEGIN:VEVENT
DTSTART;VALUE=DATE:20160807
DTEND;VALUE=DATE:20160813
DTSTAMP:20260423T172947
CREATED:20160415T204434Z
LAST-MODIFIED:20160415T204434Z
UID:10002987-1470528000-1471046399@cathedralofhope.org
SUMMARY:Senior High Mission Trip
DESCRIPTION:Youth who have finished 8th\, 9th\, 10th\, 11th and 12th grade will be serving around Pittsburgh this summer during our mission week.    \nPlease pray for our youth as they join in God’s work in the world. \n2016 Senior High Mission Trip Permission Form \n2016 Mission Trip Requirements and Dates\n \n2016 Scholarship Assistance Form for Mission Trip
URL:https://cathedralofhope.org/event/senior-high-mission-trip-3/
LOCATION:Unnamed Venue\, WV
CATEGORIES:Children & Youth,Featured Events,Mission Activities
ATTACH;FMTTYPE=image/png:https://cathedralofhope.org/wp-content/uploads/2016/04/pgh.png
ORGANIZER;CN="Sara Hackett":MAILTO:SaraH@coh.net
GEO:38.5976262;-80.4549026
END:VEVENT
BEGIN:VEVENT
DTSTART;VALUE=DATE:20150809
DTEND;VALUE=DATE:20150816
DTSTAMP:20260423T172947
CREATED:20150228T000521Z
LAST-MODIFIED:20150228T000521Z
UID:10002385-1439078400-1439683199@cathedralofhope.org
SUMMARY:Senior High Mission Trip
DESCRIPTION:Youth who have finished 8th\, 9th\, 10th\, 11th and 12th grade will be traveling to Maxwelton\, West Virginia to serve with the West Virginia Ministry or Advocacy and Workcamps.  The mission of WVMAW is to offer the opportunity for discipleship by partnering with those in need whose lives have been devastated by natural disasters or by the disaster of poverty in areas of West Virginia. \nSince October 2001\, WVMAW has brought 40-80 volunteer groups per year to work in West Virginia. Their work has consisted of home repair and reconstruction\, deconstruction\, playground restoration\, parks cleanup\, stream bank stabilization\, and vacation Bible schools\, among other things. \nPlease pray for our youth as they join in God’s work in the world. \n2015 Senior High Mission Trip Permission Form \n 2015 Mission Trip Requirements and Dates\n \n2015 Scholarship Assistance Form for Mission Trip
URL:https://cathedralofhope.org/event/senior-high-mission-trip-2/
LOCATION:Unnamed Venue\, WV
CATEGORIES:Children & Youth,Mission Activities
ATTACH;FMTTYPE=image/jpeg:https://cathedralofhope.org/wp-content/uploads/2014/05/P1300780.jpg
ORGANIZER;CN="Sara Hackett":MAILTO:SaraH@coh.net
GEO:38.5976262;-80.4549026
END:VEVENT
END:VCALENDAR